BEGIN:VCALENDAR
VERSION:2.0
PRODID:-//Ziber2013/
CALSCALE:GREGORIAN
BEGIN:VEVENT
UID:245969@https://www.kindcentrumdevlindertuin.nl
DTSTART:20260514T000000
DTEND:20260515T235900
SUMMARY:Hemelvaartsdag/weekend
DESCRIPTION:
LOCATION:Kindcentrum de Vlindertuin\, Cornelia van Arkeldijk 24\, 1705 NP Heerhugowaard
X-MICROSOFT-CDO-ALLDAYEVENT:TRUE
ATTACH;FMTTYPE=image/jpeg:/content/monsterGallery/ascensionday.png?width=1600&height=1200
SEQUENCE:0
DTSTAMP:20260420T073003
END:VEVENT
END:VCALENDAR
